BEGIN:VCALENDAR
VERSION:2.0
PRODID:-//TYPO3/NONSGML News system (news)//EN
BEGIN:VEVENT
TZID:Central Europe Standard Time
UID:news-60526@international.tu-dortmund.de
DTSTAMP:20260423T094037Z

DTSTART:20260424T180000
DTEND:20260424T220000


LOCATION:EF50 Foyer (Emil-Figge-Straße 50, 44227 Dortmund)

DESCRIPTION:https://international.tu-dortmund.de/veranstaltungsdetail/fest-der-kulturen-sommer-edition-2-60526/
SUMMARY:Fest der Kulturen Sommer Edition
END:VEVENT
END:VCALENDAR
