BEGIN:VCALENDAR
VERSION:2.0
PRODID:-//TYPO3/NONSGML News system (news)//EN
BEGIN:VEVENT
TZID:Central Europe Standard Time
UID:news-44872@international.tu-dortmund.de
DTSTAMP:20260422T061352Z

DTSTART:20250506T170000
DTEND:20260506T180000


LOCATION:Online

DESCRIPTION:https://international.tu-dortmund.de/veranstaltungsdetail/auslandssemester-mit-gostralia-gomerica-1-1-44872/
SUMMARY:Info Event: Auslandssemester mit GOstralia!-GOmerica!  
END:VEVENT
END:VCALENDAR
